BEGIN:VCALENDAR
VERSION:2.0
PRODID:-//Kitsap County Resuscitation - ECPv6.15.3//NONSGML v1.0//EN
CALSCALE:GREGORIAN
METHOD:PUBLISH
X-WR-CALNAME:Kitsap County Resuscitation
X-ORIGINAL-URL:http://www.kitsapcountycpr.org
X-WR-CALDESC:Events for Kitsap County Resuscitation
REFRESH-INTERVAL;VALUE=DURATION:PT1H
X-Robots-Tag:noindex
X-PUBLISHED-TTL:PT1H
BEGIN:VTIMEZONE
TZID:America/Los_Angeles
BEGIN:DAYLIGHT
TZOFFSETFROM:-0800
TZOFFSETTO:-0700
TZNAME:PDT
DTSTART:20170312T100000
END:DAYLIGHT
BEGIN:STANDARD
TZOFFSETFROM:-0700
TZOFFSETTO:-0800
TZNAME:PST
DTSTART:20171105T090000
END:STANDARD
END:VTIMEZONE
BEGIN:VTIMEZONE
TZID:UTC
BEGIN:STANDARD
TZOFFSETFROM:+0000
TZOFFSETTO:+0000
TZNAME:UTC
DTSTART:20170101T000000
END:STANDARD
END:VTIMEZONE
BEGIN:VEVENT
DTSTART;TZID=America/Los_Angeles:20170918T083000
DTEND;TZID=America/Los_Angeles:20170918T163000
DTSTAMP:20260423T101534
CREATED:20170621T175527Z
LAST-MODIFIED:20170621T180239Z
UID:644-1505723400-1505752200@www.kitsapcountycpr.org
SUMMARY:2017 Kitsap Resuscitation Academy
DESCRIPTION:Please pre-register online (bottom of page).
URL:http://www.kitsapcountycpr.org/event/2017-kitsap-resuscitation-academy/
LOCATION:Harrison Hospital\, Silverdale\, 1800 NW Myhre Rd\, Silverdale\, 98383\, United States
END:VEVENT
BEGIN:VEVENT
DTSTART;TZID=UTC:20170610T083000
DTEND;TZID=UTC:20170610T123000
DTSTAMP:20260423T101534
CREATED:20170426T231917Z
LAST-MODIFIED:20170426T183219Z
UID:425-1497083400-1497097800@www.kitsapcountycpr.org
SUMMARY:2nd Annual West Sound Save a Life March
DESCRIPTION:Please pre-register online (bottom of page).\nDoors at 8:30am\, event begins at 10:00am. \nBuy a T-Shirt
URL:http://www.kitsapcountycpr.org/event/west-sound-save-a-life-march/
LOCATION:Kitsap Mall Parking Lot\, Silverdale\, WA\, 98383\, United States
END:VEVENT
END:VCALENDAR